BEGIN:VCALENDAR
VERSION:2.0
PRODID:-//hacksw/handcal//NONSGML v1.0//EN
BEGIN:VEVENT
UID:cb8f63c910ed204100734a1d932160a2
DTSTAMP:20260421T205313Z

DTSTART:20180601T194500
DTEND:20180601T194500
SUMMARY:Passage des grades Adolescents
DESCRIPTION:Pour le passage des grades

Pensez donc a votre tenue complète et obligatoire
 
N'oubliez pas

. Tee shirt du club pour ceux qui l ont ou blanc
. Pantalon de full contact 
. Gants
. Protege Tibia 
. Protege Pieds
. protege dents
. Coquille

Pensez a une bouteille d eau

Merci 

Cordialement
Sportez vous bien...!!!

USB FULL-CONTACT SEYNOIS team SEG
LOCATION:
END:VEVENT

END:VCALENDAR
