BEGIN:VCALENDAR
VERSION:2.0
PRODID:-//hacksw/handcal//NONSGML v1.0//EN
BEGIN:VEVENT
UID:7c4e338ef71cc2495ff8f75dde2d22d6
DTSTAMP:20260421T205911Z

DTSTART:20180606T154500
DTEND:20180606T154500
SUMMARY:Passage des grades enfants au Dojo de Seyne
DESCRIPTION:
LOCATION:
END:VEVENT

END:VCALENDAR
