BEGIN:VCALENDAR
VERSION:2.0
PRODID:-//hacksw/handcal//NONSGML v1.0//EN
BEGIN:VEVENT
UID:b7930de3d97bee68c05a4576e258435d
DTSTAMP:20260422T074231Z

DTSTART:20180610T090000
DTEND:20180610T090000
SUMMARY:Fête du Tennis
DESCRIPTION:Matinée portes ouvertes, terrain de Selonnet.
L'USB Tennis organise une matinée initiation et découverte de l'activité à l'occasion de la fête du Tennis.
Possibilité de jouer sur les terrains de Selonnet, animations avec petits lots et prêt de matériel, suivi d'un apéro offert par le Club.
Ouvert à tous, enfants et adultes
N'hésitez pas à venir
A très bientôt

LOCATION:04140 Selonnet, France
END:VEVENT

END:VCALENDAR
