BEGIN:VCALENDAR
VERSION:2.0
PRODID:-//hacksw/handcal//NONSGML v1.0//EN
BEGIN:VEVENT
UID:1547f164ee4a43c800b3b20ee432f338
DTSTAMP:20260422T044343Z

DTSTART:20180623T090000
DTEND:20180624T180000
SUMMARY:8ème édition du Bol d'or jeu provençal triplette
DESCRIPTION:8ème édition du Bol d'or jeu provençal triplette limité à 44 équipes sur invitation.
LOCATION:04140 Seyne, France
END:VEVENT

END:VCALENDAR
