BEGIN:VCALENDAR
VERSION:2.0
PRODID:-//hacksw/handcal//NONSGML v1.0//EN
BEGIN:VEVENT
UID:a30ceb1b9ab1115c4ed5f3b17dad10cb
DTSTAMP:20260422T031152Z

DTSTART:20180708T000000
DTEND:20180708T000000
SUMMARY:Randormillouse
DESCRIPTION:
LOCATION:04140 Montclar, France
END:VEVENT

END:VCALENDAR
