BEGIN:VCALENDAR
VERSION:2.0
PRODID:-//hacksw/handcal//NONSGML v1.0//EN
BEGIN:VEVENT
UID:2d1bccbf383d20f5b83b82a01e9fe201
DTSTAMP:20260421T082040Z

DTSTART:20180630T083000
DTEND:20180630T083000
SUMMARY:Challenge Pitou tournoi de sixte 11ème édition
DESCRIPTION:
LOCATION:
END:VEVENT

END:VCALENDAR
