BEGIN:VCALENDAR
VERSION:2.0
PRODID:-//hacksw/handcal//NONSGML v1.0//EN
BEGIN:VEVENT
UID:db176b0a2ebda51efa3dc6adcfedf6e9
DTSTAMP:20260422T013839Z

DTSTART:20180812T080000
DTEND:20180812T080000
SUMMARY:Trail de Dormillouse Unesco Géoparc
DESCRIPTION:
LOCATION:04140 Montclar, France
END:VEVENT

END:VCALENDAR
