BEGIN:VCALENDAR
VERSION:2.0
PRODID:-//hacksw/handcal//NONSGML v1.0//EN
BEGIN:VEVENT
UID:18bc3475ecf0898e57513231e250b70e
DTSTAMP:20260422T061453Z

DTSTART:20180915T000000
DTEND:20180916T000000
SUMMARY:Raid de la Blanche
DESCRIPTION:
LOCATION:
END:VEVENT

END:VCALENDAR
