BEGIN:VCALENDAR
VERSION:2.0
PRODID:-//hacksw/handcal//NONSGML v1.0//EN
BEGIN:VEVENT
UID:375861ce1d92b6718229b73a95bdc016
DTSTAMP:20260422T013915Z

DTSTART:20180922T100000
DTEND:20180922T160000
SUMMARY:Fête du Sport
DESCRIPTION:
LOCATION:04140 Seyne, France
END:VEVENT

END:VCALENDAR
