BEGIN:VCALENDAR
VERSION:2.0
PRODID:-//hacksw/handcal//NONSGML v1.0//EN
BEGIN:VEVENT
UID:a7a4680337751fbe71d14c04010cf4de
DTSTAMP:20260422T045545Z

DTSTART:20180909T090000
DTEND:20180909T090000
SUMMARY:Endurance Moto Tout Terrain
DESCRIPTION:
LOCATION:04140 Seyne, France
END:VEVENT

END:VCALENDAR
