BEGIN:VCALENDAR
VERSION:2.0
PRODID:-//hacksw/handcal//NONSGML v1.0//EN
BEGIN:VEVENT
UID:1bbdc17adc482639e0648e89ca968519
DTSTAMP:20260422T061455Z

DTSTART:20180811T000000
DTEND:20180812T000000
SUMMARY:Chalenge ELOI BONNARDEL
DESCRIPTION:Concours jeu provençal triplette
LOCATION:04140 Seyne, France
END:VEVENT

END:VCALENDAR
